BEGIN:VCALENDAR
VERSION:2.0
PRODID:-//eventon.com NONSGML v1.0//EN
CALSCALE:GREGORIAN
METHOD:PUBLISH
BEGIN:VEVENT
UID:69e88b2acb31e
DTSTAMP:20260422T084738Z
DTSTART:20220323T090000Z
DTEND:20220323T103000Z
LOCATION:https://urldefense.com/v3/__https:/ecconf.webex.com/ecconf/j.php?MTID=m85ca01b718e34cdf0cac6cdc209d2dff__;!!DOxrgLBm!SOkBb2LFXJqAz6-SA09oVh-WV0Xa8iLchYhbSPeSnUTZcw3y8Wx5KgAeosG27CWs2CMEO-A$
SUMMARY:Session d’information sur l’appel à propositions pour les données ouvertes du secteur public pour l’intelligence artificielle
DESCRIPTION:Cette session fournira des informations sur l'appel à proposit
 ions lancé dans le cadre du programme Digital Europe (DEP) pour aider les 
 administrations publiques aux niveaux local\,  régional et national à acc
 roître l'interopérabilité sémantique\,  technique et juridique et la po
 rtabilité des données de grande valeur (HVD).\nhttps://occitanie-europe.e
 u/events/session-dinformation-sur-lappel-a-propositions-pour-les-donnees-ou
 vertes-du-secteur-public-pour-lintelligence-artificielle/var/event_access
URL:https://occitanie-europe.eu/events/session-dinformation-sur-lappel-a-propositions-pour-les-donnees-ouvertes-du-secteur-public-pour-lintelligence-artificielle/var/event_access
END:VEVENT
END:VCALENDAR