BEGIN:VCALENDAR
VERSION:2.0
PRODID:-//eventon.com NONSGML v1.0//EN
CALSCALE:GREGORIAN
METHOD:PUBLISH
BEGIN:VEVENT
UID:69e5e798581f0
DTSTAMP:20260420T084512Z
DTSTART:20220322T090000Z
DTEND:20220322T170000Z
LOCATION:
SUMMARY:Forum des parties prenantes sur l'éducation digitale
DESCRIPTION:Le Forum des parties prenantes discutera de la mise en œuvre d
 e l'éducation numérique - en termes de politique et de pratique - à l'é
 chelle européenne\,  nationale et régionale.\nhttps://occitanie-europe.eu
 /events/forum-des-parties-prenantes-sur-leducation-digitale/
URL:https://occitanie-europe.eu/events/forum-des-parties-prenantes-sur-leducation-digitale/
END:VEVENT
END:VCALENDAR