BEGIN:VCALENDAR
VERSION:2.0
PRODID:-//eventon.com NONSGML v1.0//EN
CALSCALE:GREGORIAN
METHOD:PUBLISH
BEGIN:VEVENT
UID:69e89095d6f62
DTSTAMP:20260422T091045Z
DTSTART:20220207T203000Z
DTEND:20220209T060000Z
LOCATION:
SUMMARY:Conférence « Construire la souveraineté numérique de l'Europe »
DESCRIPTION:Conférence « Construire la souveraineté numérique de l'Euro
 pe »\nhttps://occitanie-europe.eu/events/conference-construire-la-souverai
 nete-numerique-de-leurope/
URL:https://occitanie-europe.eu/events/conference-construire-la-souverainete-numerique-de-leurope/
END:VEVENT
END:VCALENDAR