BEGIN:VCALENDAR
VERSION:2.0
PRODID:-//eventon.com NONSGML v1.0//EN
CALSCALE:GREGORIAN
METHOD:PUBLISH
BEGIN:VEVENT
UID:69e82a3be1bc1
DTSTAMP:20260422T015403Z
DTSTART:20211129T093000Z
DTEND:20211203T170000Z
LOCATION:
SUMMARY:Semaine européenne de l’hydrogène
DESCRIPTION:Semaine européenne de l’hydrogène\nhttps://occitanie-europe
 .eu/events/semaine-europeenne-de-lhydrogene/
URL:https://occitanie-europe.eu/events/semaine-europeenne-de-lhydrogene/
END:VEVENT
END:VCALENDAR