BEGIN:VCALENDAR
VERSION:2.0
PRODID:-//eventon.com NONSGML v1.0//EN
CALSCALE:GREGORIAN
METHOD:PUBLISH
BEGIN:VEVENT
UID:69e88f292272d
DTSTAMP:20260422T090441Z
DTSTART:20211122
DTEND:20211123
LOCATION:
SUMMARY:Journée d'information sur les espaces de données - Session de réseautage
DESCRIPTION:Journée d'information sur les espaces de données - Session de
  réseautage\nhttps://occitanie-europe.eu/events/journee-dinformation-sur-l
 es-espaces-de-donnees-session-de-reseautage/
URL:https://occitanie-europe.eu/events/journee-dinformation-sur-les-espaces-de-donnees-session-de-reseautage/
END:VEVENT
END:VCALENDAR