BEGIN:VCALENDAR
VERSION:2.0
PRODID:-//eventon.com NONSGML v1.0//EN
CALSCALE:GREGORIAN
METHOD:PUBLISH
BEGIN:VEVENT
UID:69e739c449e03
DTSTAMP:20260421T084804Z
DTSTART:20211129T090000Z
DTEND:20211201T180000Z
LOCATION:
SUMMARY:Session d'information sur le Cluster 4 - Numérique\,  industrie et espace du Programme de travail 2022
DESCRIPTION:Session d'information sur le Cluster 4 - Numérique\,  industri
 e et espace du Programme de travail 2022\nhttps://occitanie-europe.eu/event
 s/session-dinformation-sur-le-cluster-4-numerique-industrie-et-espace-du-pr
 ogramme-de-travail-2022/
URL:https://occitanie-europe.eu/events/session-dinformation-sur-le-cluster-4-numerique-industrie-et-espace-du-programme-de-travail-2022/
END:VEVENT
END:VCALENDAR