BEGIN:VCALENDAR
VERSION:2.0
PRODID:-//eventon.com NONSGML v1.0//EN
CALSCALE:GREGORIAN
METHOD:PUBLISH
BEGIN:VEVENT
UID:69e632104a928
DTSTAMP:20260420T140256Z
DTSTART:20211115T093000Z
DTEND:20211117T160000Z
LOCATION:
SUMMARY:Conférence "Beau\,  durable\,  ensemble : LIFE dans le nouveau Bauhaus européen"
DESCRIPTION:Conférence "Beau\,  durable\,  ensemble : LIFE dans le nouveau
  Bauhaus européen"\nhttps://occitanie-europe.eu/events/conference-beau-dur
 able-ensemble-life-dans-le-nouveau-bauhaus-europeen/
URL:https://occitanie-europe.eu/events/conference-beau-durable-ensemble-life-dans-le-nouveau-bauhaus-europeen/
END:VEVENT
END:VCALENDAR