BEGIN:VCALENDAR
VERSION:2.0
PRODID:-//eventon.com NONSGML v1.0//EN
CALSCALE:GREGORIAN
METHOD:PUBLISH
BEGIN:VEVENT
UID:69e5e76f7df90
DTSTAMP:20260420T084431Z
DTSTART:20211129
DTEND:20211130
LOCATION:En ligne
SUMMARY:Journée d'information et de mise en relation en ligne pour les appels du programme Digital Europe sur les TEF sectoriels
DESCRIPTION:Journée d'information et de mise en relation en ligne pour les
  appels du programme Digital Europe sur les TEF sectoriels\nhttps://occitan
 ie-europe.eu/events/journee-dinformation-et-de-mise-en-relation-en-ligne-po
 ur-les-appels-du-programme-digital-europe-sur-les-tef-sectoriels/
URL:https://occitanie-europe.eu/events/journee-dinformation-et-de-mise-en-relation-en-ligne-pour-les-appels-du-programme-digital-europe-sur-les-tef-sectoriels/
END:VEVENT
END:VCALENDAR