BEGIN:VCALENDAR
VERSION:2.0
PRODID:-//eventon.com NONSGML v1.0//EN
CALSCALE:GREGORIAN
METHOD:PUBLISH
BEGIN:VEVENT
UID:69ed5c4ade315
DTSTAMP:20260426T002858Z
DTSTART:20210910T100000Z
DTEND:20210910T130000Z
LOCATION:
SUMMARY:Remodeler le cadre budgétaire de l'UE pour une reprise durable et une transition juste
DESCRIPTION:Remodeler le cadre budgétaire de l'UE pour une reprise durable
  et une transition juste\nhttps://occitanie-europe.eu/events/remodeler-le-c
 adre-budgetaire-de-lue-pour-une-reprise-durable-et-une-transition-juste/
URL:https://occitanie-europe.eu/events/remodeler-le-cadre-budgetaire-de-lue-pour-une-reprise-durable-et-une-transition-juste/
END:VEVENT
END:VCALENDAR