BEGIN:VCALENDAR
VERSION:2.0
PRODID:-//eventon.com NONSGML v1.0//EN
CALSCALE:GREGORIAN
METHOD:PUBLISH
BEGIN:VEVENT
UID:69ecd6383e415
DTSTAMP:20260425T145656Z
DTSTART:20210622T130000Z
DTEND:20210622T170000Z
LOCATION:
SUMMARY:Atelier sur l'intelligence artificielle pour l'impact social : modèles d'affaires sociaux et financement des entreprises sociales
DESCRIPTION:Atelier sur l'intelligence artificielle pour l'impact social : 
 modèles d'affaires sociaux et financement des entreprises sociales\nhttps:
 //occitanie-europe.eu/events/atelier-sur-lintelligence-artificielle-pour-li
 mpact-social-modeles-daffaires-sociaux-et-financement-des-entreprises-socia
 les/
URL:https://occitanie-europe.eu/events/atelier-sur-lintelligence-artificielle-pour-limpact-social-modeles-daffaires-sociaux-et-financement-des-entreprises-sociales/
END:VEVENT
END:VCALENDAR