BEGIN:VCALENDAR
VERSION:2.0
PRODID:-//eventon.com NONSGML v1.0//EN
CALSCALE:GREGORIAN
METHOD:PUBLISH
BEGIN:VEVENT
UID:69e580e584358
DTSTAMP:20260420T012701Z
DTSTART:20210527T090000Z
DTEND:20210527T110000Z
LOCATION:
SUMMARY:Audition publique sur la réduction des émissions de méthane
DESCRIPTION:Audition publique sur la réduction des émissions de méthane\
 nhttps://occitanie-europe.eu/events/audition-publique-sur-la-reduction-des-
 emissions-de-methane/
URL:https://occitanie-europe.eu/events/audition-publique-sur-la-reduction-des-emissions-de-methane/
END:VEVENT
END:VCALENDAR