BEGIN:VCALENDAR
VERSION:2.0
PRODID:-//eventon.com NONSGML v1.0//EN
CALSCALE:GREGORIAN
METHOD:PUBLISH
BEGIN:VEVENT
UID:69eb90ae00aeb
DTSTAMP:20260424T154758Z
DTSTART:20210509T000000Z
DTEND:20210509T000000Z
LOCATION:
SUMMARY:Journée de l'Europe 2021
DESCRIPTION:Journée de l'Europe 2021\nhttps://occitanie-europe.eu/events/j
 ournee-de-leurope-2021/
URL:https://occitanie-europe.eu/events/journee-de-leurope-2021/
END:VEVENT
END:VCALENDAR