BEGIN:VCALENDAR
VERSION:2.0
PRODID:-//eventon.com NONSGML v1.0//EN
CALSCALE:GREGORIAN
METHOD:PUBLISH
BEGIN:VEVENT
UID:69eb5b3a030c0
DTSTAMP:20260424T115954Z
DTSTART:20210322T090000Z
DTEND:20210326T130000Z
LOCATION:
SUMMARY:Semaine de la vision rurale
DESCRIPTION:La "Semaine de la vision rurale" est un événement organisé p
 ar le Réseau européen pour le développement rural (ENRD) en collaboratio
 n avec la Commission européenne. Les membres d'Occitanie Europe assisteron
 t à deux workshops : "Green rural futures"\,  le 23/03 de 09h15 à 10h45 "
  Digitally-led innovative rural futures"\,  le 23/03[..]\nhttps://occitanie
 -europe.eu/events/semaine-de-la-vision-rurale/
URL:https://occitanie-europe.eu/events/semaine-de-la-vision-rurale/
END:VEVENT
END:VCALENDAR