BEGIN:VCALENDAR
VERSION:2.0
PRODID:-//eventon.com NONSGML v1.0//EN
CALSCALE:GREGORIAN
METHOD:PUBLISH
BEGIN:VEVENT
UID:69e739c26e7ba
DTSTAMP:20260421T084802Z
DTSTART:20210114T000000Z
DTEND:20210118T000000Z
LOCATION:
SUMMARY:Conférence Erasmus + : bilan et perspectives
DESCRIPTION:Conférence Erasmus + : bilan et perspectives\nhttps://occitani
 e-europe.eu/events/conference-erasmus-bilan-et-perspectives/
URL:https://occitanie-europe.eu/events/conference-erasmus-bilan-et-perspectives/
END:VEVENT
END:VCALENDAR