BEGIN:VCALENDAR
VERSION:2.0
PRODID:-//eventon.com NONSGML v1.0//EN
CALSCALE:GREGORIAN
METHOD:PUBLISH
BEGIN:VEVENT
UID:69e88b1282aa5
DTSTAMP:20260422T084714Z
DTSTART:20210127T140000Z
DTEND:20210127T170000Z
LOCATION:
SUMMARY:Financer la vague de rénovation
DESCRIPTION:Financer la vague de rénovation\nhttps://occitanie-europe.eu/e
 vents/financer-la-vague-de-renovation/
URL:https://occitanie-europe.eu/events/financer-la-vague-de-renovation/
END:VEVENT
END:VCALENDAR