BEGIN:VCALENDAR
VERSION:2.0
PRODID:-//eventon.com NONSGML v1.0//EN
CALSCALE:GREGORIAN
METHOD:PUBLISH
BEGIN:VEVENT
UID:69e751251110a
DTSTAMP:20260421T102749Z
DTSTART:20210128T000000Z
DTEND:20210128T000000Z
LOCATION:
SUMMARY:Le rôle de la politique budgétaire dans l’atténuation de la crise liée à la COVID-19
DESCRIPTION:Le rôle de la politique budgétaire dans l’atténuation de l
 a crise liée à la COVID-19\nhttps://occitanie-europe.eu/events/le-role-de
 -la-politique-budgetaire-dans-lattenuation-de-la-crise-liee-a-la-covid-19/
URL:https://occitanie-europe.eu/events/le-role-de-la-politique-budgetaire-dans-lattenuation-de-la-crise-liee-a-la-covid-19/
END:VEVENT
END:VCALENDAR