BEGIN:VCALENDAR
VERSION:2.0
PRODID:-//eventon.com NONSGML v1.0//EN
CALSCALE:GREGORIAN
METHOD:PUBLISH
BEGIN:VEVENT
UID:69e61d6e8e7d9
DTSTAMP:20260420T123454Z
DTSTART:20201009T090000Z
DTEND:20201013T180000Z
LOCATION:
SUMMARY:Semaine européenne des compétences professionnelles 2020
DESCRIPTION:Semaine européenne des compétences professionnelles 2020\nhtt
 ps://occitanie-europe.eu/events/semaine-europeenne-des-competences-professi
 onnelles-2020/
URL:https://occitanie-europe.eu/events/semaine-europeenne-des-competences-professionnelles-2020/
END:VEVENT
END:VCALENDAR