BEGIN:VCALENDAR
VERSION:2.0
PRODID:-//eventon.com NONSGML v1.0//EN
CALSCALE:GREGORIAN
METHOD:PUBLISH
BEGIN:VEVENT
UID:69ea6f9c2d0fa
DTSTAMP:20260423T191436Z
DTSTART:20200218T130000Z
DTEND:20200319T170000Z
LOCATION:Librairie Solvay
SUMMARY:Une perspective européenne sur l'Intelligence Artificielle : ouvrir la voie à l'adoption de l'IA par les PME dans les principales chaînes de valeur industrielles
DESCRIPTION:Au cours d'une conférence de deux jours\,  l'accent sera mis s
 ur l'échange de connaissances et la mise en réseau entre les PME europée
 nnes\,  les décideurs\,  les innovateurs en matière d'IA et les universit
 aires afin d'évaluer les initiatives politiques existantes et futures pote
 ntielles pour soutenir l'adoption de l'IA.\nhttps://occitanie-europe.eu/eve
 nts/une-perspective-europeenne-sur-lintelligence-artificielle-ouvrir-la-voi
 e-a-ladoption-de-lia-par-les-pme-dans-les-principales-chaines-de-valeur-ind
 ustrielles/
URL:https://occitanie-europe.eu/events/une-perspective-europeenne-sur-lintelligence-artificielle-ouvrir-la-voie-a-ladoption-de-lia-par-les-pme-dans-les-principales-chaines-de-valeur-industrielles/
END:VEVENT
END:VCALENDAR