BEGIN:VCALENDAR
VERSION:2.0
PRODID:-//eventon.com NONSGML v1.0//EN
CALSCALE:GREGORIAN
METHOD:PUBLISH
BEGIN:VEVENT
UID:69e81830ea247
DTSTAMP:20260422T003704Z
DTSTART:20190919T084500Z
DTEND:20190919T104500Z
LOCATION:Helsinki EU office Guimardstraat 7\,  Bruxelles
SUMMARY:EvÃ¨nement de lancement : document sur lâ€™Ã©galitÃ©\,  la diversitÃ© et lâ€™inclusion
DESCRIPTION:Le 19 septembre\,  la Ligue des universitÃ©s pour la recherche 
 europÃ©enne introduit son nouveau document pour l'Ã©galitÃ©\,  la diversitÃ
 © et l'inclusion\,  prÃ©sentÃ© par son auteur\,  Pr. Simone Buitendijk Ã  l
 'ImpÃ©rial College de Londres.\nhttps://occitanie-europe.eu/events/evenemen
 t-de-lancement-document-sur-legalite-la-diversite-et-linclusion/
URL:https://occitanie-europe.eu/events/evenement-de-lancement-document-sur-legalite-la-diversite-et-linclusion/
END:VEVENT
END:VCALENDAR